BEGIN:VCALENDAR
VERSION:2.0
PRODID:-//North West Translators&#039; Network - ECPv6.15.20//NONSGML v1.0//EN
CALSCALE:GREGORIAN
METHOD:PUBLISH
X-ORIGINAL-URL:https://nwtn.org.uk
X-WR-CALDESC:Events for North West Translators&#039; Network
REFRESH-INTERVAL;VALUE=DURATION:PT1H
X-Robots-Tag:noindex
X-PUBLISHED-TTL:PT1H
BEGIN:VTIMEZONE
TZID:Europe/London
BEGIN:DAYLIGHT
TZOFFSETFROM:+0000
TZOFFSETTO:+0100
TZNAME:BST
DTSTART:20230326T010000
END:DAYLIGHT
BEGIN:STANDARD
TZOFFSETFROM:+0100
TZOFFSETTO:+0000
TZNAME:GMT
DTSTART:20231029T010000
END:STANDARD
BEGIN:DAYLIGHT
TZOFFSETFROM:+0000
TZOFFSETTO:+0100
TZNAME:BST
DTSTART:20240331T010000
END:DAYLIGHT
BEGIN:STANDARD
TZOFFSETFROM:+0100
TZOFFSETTO:+0000
TZNAME:GMT
DTSTART:20241027T010000
END:STANDARD
BEGIN:DAYLIGHT
TZOFFSETFROM:+0000
TZOFFSETTO:+0100
TZNAME:BST
DTSTART:20250330T010000
END:DAYLIGHT
BEGIN:STANDARD
TZOFFSETFROM:+0100
TZOFFSETTO:+0000
TZNAME:GMT
DTSTART:20251026T010000
END:STANDARD
END:VTIMEZONE
BEGIN:VEVENT
DTSTART;TZID=Europe/London:20241212T090000
DTEND;TZID=Europe/London:20241212T170000
DTSTAMP:20260423T230051
CREATED:20241118T182736Z
LAST-MODIFIED:20241203T115002Z
UID:7836-1733994000-1734022800@nwtn.org.uk
SUMMARY:Festive Coworking in Warrington
DESCRIPTION:This content is available only to Members of NWTN. To join please click here or login here
URL:https://nwtn.org.uk/event/festive-coworking-in-warrington/
LOCATION:The Outset\, Sankey Street\, Warrington\, WA1 1NN\, United Kingdom
CATEGORIES:Coworking
ATTACH;FMTTYPE=image/png:https://nwtn.org.uk/wp-content/uploads/2024/11/Fixed-Post-2-1.png
END:VEVENT
BEGIN:VEVENT
DTSTART;TZID=Europe/London:20241207T140000
DTEND;TZID=Europe/London:20241207T160000
DTSTAMP:20260423T230051
CREATED:20241115T133721Z
LAST-MODIFIED:20241204T161619Z
UID:7810-1733580000-1733587200@nwtn.org.uk
SUMMARY:Festive Social 2024
DESCRIPTION:This content is available only to Members of NWTN. To join please click here or login here
URL:https://nwtn.org.uk/event/festive-social-2024/
LOCATION:Friends’ Meeting House\, 6 Mount Street\, Manchester\, M2 5NS\, United Kingdom
CATEGORIES:Networking,Social
ATTACH;FMTTYPE=image/jpeg:https://nwtn.org.uk/wp-content/uploads/2024/11/Festive-announcement-1-2.jpg
END:VEVENT
BEGIN:VEVENT
DTSTART;TZID=Europe/London:20241120T130000
DTEND;TZID=Europe/London:20241120T140000
DTSTAMP:20260423T230051
CREATED:20241107T090533Z
LAST-MODIFIED:20241107T090537Z
UID:7794-1732107600-1732111200@nwtn.org.uk
SUMMARY:Working Lunch: Drop-In
DESCRIPTION:This content is available only to Members of NWTN. To join please click here or login here
URL:https://nwtn.org.uk/event/working-lunch-drop-in-15/
CATEGORIES:Working Lunch
ATTACH;FMTTYPE=image/png:https://nwtn.org.uk/wp-content/uploads/2024/11/Autumnal-working-lunch-5.png
END:VEVENT
BEGIN:VEVENT
DTSTART;TZID=Europe/London:20241116T093000
DTEND;TZID=Europe/London:20241116T163000
DTSTAMP:20260423T230051
CREATED:20240827T142758Z
LAST-MODIFIED:20241028T101251Z
UID:7670-1731749400-1731774600@nwtn.org.uk
SUMMARY:Stronger Together 2024
DESCRIPTION:This content is available only to Members of NWTN. To join please click here or login here
URL:https://nwtn.org.uk/event/stronger-together-2/
LOCATION:Anthony Burgess Foundation\, Engine House\, Chorlton Mill\, 3 Cambridge Street\, Manchester\, M1 5BY\, United Kingdom
CATEGORIES:CPD,Networking
ATTACH;FMTTYPE=image/jpeg:https://nwtn.org.uk/wp-content/uploads/2023/12/20231118_155009-scaled-e1702564715256.jpg
ORGANIZER;CN="Laurence Bisot":MAILTO:chair@nwtn.org.uk
END:VEVENT
BEGIN:VEVENT
DTSTART;TZID=Europe/London:20241113T090000
DTEND;TZID=Europe/London:20241113T170000
DTSTAMP:20260423T230051
CREATED:20241107T092010Z
LAST-MODIFIED:20241107T101609Z
UID:7798-1731488400-1731517200@nwtn.org.uk
SUMMARY:Coworking in Warrington
DESCRIPTION:This content is available only to Members of NWTN. To join please click here or login here
URL:https://nwtn.org.uk/event/coworking-in-warrington/
LOCATION:The Outset\, Sankey Street\, Warrington\, WA1 1NN\, United Kingdom
CATEGORIES:Coworking
ATTACH;FMTTYPE=image/png:https://nwtn.org.uk/wp-content/uploads/2024/11/Fixed-Post-2.png
END:VEVENT
BEGIN:VEVENT
DTSTART;TZID=Europe/London:20241030T130000
DTEND;TZID=Europe/London:20241030T140000
DTSTAMP:20260423T230051
CREATED:20240926T093159Z
LAST-MODIFIED:20240926T093253Z
UID:7720-1730293200-1730296800@nwtn.org.uk
SUMMARY:Working Lunch: Drop-In
DESCRIPTION:This content is available only to Members of NWTN. To join please click here or login here
URL:https://nwtn.org.uk/event/working-lunch-drop-in-14/
CATEGORIES:Networking,Social,Working Lunch
ATTACH;FMTTYPE=image/png:https://nwtn.org.uk/wp-content/uploads/2024/09/October-24-working-lunch.png
END:VEVENT
BEGIN:VEVENT
DTSTART;TZID=Europe/London:20241029T190000
DTEND;TZID=Europe/London:20241029T210000
DTSTAMP:20260423T230051
CREATED:20240926T091959Z
LAST-MODIFIED:20241001T083630Z
UID:7717-1730228400-1730235600@nwtn.org.uk
SUMMARY:Bookchat Chapter 14
DESCRIPTION:This content is available only to Members of NWTN. To join please click here or login here
URL:https://nwtn.org.uk/event/bookchat-chapter-14/
CATEGORIES:Book Chat,Networking,Social
ATTACH;FMTTYPE=image/png:https://nwtn.org.uk/wp-content/uploads/2024/09/Bookchat-14-oct24.png
END:VEVENT
BEGIN:VEVENT
DTSTART;TZID=Europe/London:20241024T090000
DTEND;TZID=Europe/London:20241024T173000
DTSTAMP:20260423T230051
CREATED:20240930T170050Z
LAST-MODIFIED:20240930T170055Z
UID:7753-1729760400-1729791000@nwtn.org.uk
SUMMARY:Warrington Coworking
DESCRIPTION:This content is available only to Members of NWTN. To join please click here or login here
URL:https://nwtn.org.uk/event/warrington-coworking/
LOCATION:The Outset\, Sankey Street\, Warrington\, WA1 1NN\, United Kingdom
CATEGORIES:Coworking,Networking
ATTACH;FMTTYPE=image/jpeg:https://nwtn.org.uk/wp-content/uploads/2024/06/Fixed-Post.jpg
END:VEVENT
BEGIN:VEVENT
DTSTART;TZID=Europe/London:20240924T083000
DTEND;TZID=Europe/London:20240924T173000
DTSTAMP:20260423T230051
CREATED:20240828T151324Z
LAST-MODIFIED:20240828T151329Z
UID:7676-1727166600-1727199000@nwtn.org.uk
SUMMARY:Coworking in Manchester
DESCRIPTION:This content is available only to Members of NWTN. To join please click here or login here
URL:https://nwtn.org.uk/event/coworking-in-manchester-7/
LOCATION:Bold Bauhaus\, 2 Little John St\,\, Manchester\, M3 3GZ\, United Kingdom
CATEGORIES:Coworking,Networking
ATTACH;FMTTYPE=image/png:https://nwtn.org.uk/wp-content/uploads/2024/08/MAIN-Bold-Bauhaus-space.png
END:VEVENT
BEGIN:VEVENT
DTSTART;TZID=Europe/London:20240921T100000
DTEND;TZID=Europe/London:20240921T163000
DTSTAMP:20260423T230051
CREATED:20240612T154928Z
LAST-MODIFIED:20240808T115524Z
UID:7597-1726912800-1726936200@nwtn.org.uk
SUMMARY:SEO Translation Workshop
DESCRIPTION:This content is available only to Members of NWTN. To join please click here or login here
URL:https://nwtn.org.uk/event/seo-translation-workshop/
CATEGORIES:CPD
ATTACH;FMTTYPE=image/png:https://nwtn.org.uk/wp-content/uploads/2024/06/1.png
ORGANIZER;CN="Kate Lo%2C NWTN Events Team Lead":MAILTO:events@nwtn.org.uk
END:VEVENT
BEGIN:VEVENT
DTSTART;TZID=Europe/London:20240918T130000
DTEND;TZID=Europe/London:20240918T140000
DTSTAMP:20260423T230051
CREATED:20240827T141434Z
LAST-MODIFIED:20240827T141440Z
UID:7665-1726664400-1726668000@nwtn.org.uk
SUMMARY:Working Lunch: Drop-In
DESCRIPTION:This content is available only to Members of NWTN. To join please click here or login here
URL:https://nwtn.org.uk/event/working-lunch-drop-in-13/
CATEGORIES:Networking,Social,Working Lunch
ATTACH;FMTTYPE=image/png:https://nwtn.org.uk/wp-content/uploads/2024/08/Autumnal-working-lunch-6.png
END:VEVENT
BEGIN:VEVENT
DTSTART;TZID=Europe/London:20240828T130000
DTEND;TZID=Europe/London:20240828T140000
DTSTAMP:20260423T230051
CREATED:20240808T084640Z
LAST-MODIFIED:20240808T085142Z
UID:7632-1724850000-1724853600@nwtn.org.uk
SUMMARY:Working Lunch: Drop-In
DESCRIPTION:This content is available only to Members of NWTN. To join please click here or login here
URL:https://nwtn.org.uk/event/working-lunch-drop-in-12/
CATEGORIES:Working Lunch
ATTACH;FMTTYPE=image/png:https://nwtn.org.uk/wp-content/uploads/2024/08/Autumnal-working-lunch-5.png
END:VEVENT
BEGIN:VEVENT
DTSTART;TZID=Europe/London:20240724T130000
DTEND;TZID=Europe/London:20240724T140000
DTSTAMP:20260423T230051
CREATED:20240612T124405Z
LAST-MODIFIED:20240612T124407Z
UID:7588-1721826000-1721829600@nwtn.org.uk
SUMMARY:Working Lunch: Drop-In
DESCRIPTION:This content is available only to Members of NWTN. To join please click here or login here
URL:https://nwtn.org.uk/event/working-lunch-drop-in-11/
CATEGORIES:Networking,Working Lunch
ATTACH;FMTTYPE=image/png:https://nwtn.org.uk/wp-content/uploads/2024/06/July-2024-working-lunch.png
END:VEVENT
BEGIN:VEVENT
DTSTART;TZID=Europe/London:20240717T090000
DTEND;TZID=Europe/London:20240717T170000
DTSTAMP:20260423T230051
CREATED:20240612T112440Z
LAST-MODIFIED:20240716T140935Z
UID:7581-1721206800-1721235600@nwtn.org.uk
SUMMARY:Coworking in Warrington
DESCRIPTION:This content is available only to Members of NWTN. To join please click here or login here
URL:https://nwtn.org.uk/event/coworking-in-warrington-9/
CATEGORIES:Coworking,Networking
ATTACH;FMTTYPE=image/jpeg:https://nwtn.org.uk/wp-content/uploads/2024/06/Fixed-Post.jpg
END:VEVENT
BEGIN:VEVENT
DTSTART;TZID=Europe/London:20240626T130000
DTEND;TZID=Europe/London:20240626T140000
DTSTAMP:20260423T230051
CREATED:20240523T144238Z
LAST-MODIFIED:20240612T121828Z
UID:7567-1719406800-1719410400@nwtn.org.uk
SUMMARY:Working Lunch: Drop-In
DESCRIPTION:This content is available only to Members of NWTN. To join please click here or login here
URL:https://nwtn.org.uk/event/working-lunch-drop-in-10/
CATEGORIES:Networking,Social,Working Lunch
ATTACH;FMTTYPE=image/png:https://nwtn.org.uk/wp-content/uploads/2024/05/Autumnal-working-lunch-3-1.png
END:VEVENT
BEGIN:VEVENT
DTSTART;TZID=Europe/London:20240613T090000
DTEND;TZID=Europe/London:20240613T170000
DTSTAMP:20260423T230051
CREATED:20240508T151715Z
LAST-MODIFIED:20240520T103157Z
UID:7550-1718269200-1718298000@nwtn.org.uk
SUMMARY:Coworking in Manchester
DESCRIPTION:This content is available only to Members of NWTN. To join please click here or login here
URL:https://nwtn.org.uk/event/coworking-in-manchester-6/
CATEGORIES:Coworking,Networking
ATTACH;FMTTYPE=image/png:https://nwtn.org.uk/wp-content/uploads/2024/05/MAIN.png
END:VEVENT
BEGIN:VEVENT
DTSTART;TZID=Europe/London:20240529T130000
DTEND;TZID=Europe/London:20240529T140000
DTSTAMP:20260423T230051
CREATED:20240408T100821Z
LAST-MODIFIED:20240528T093110Z
UID:7482-1716987600-1716991200@nwtn.org.uk
SUMMARY:Working Lunch: Drop-In
DESCRIPTION:This content is available only to Members of NWTN. To join please click here or login here
URL:https://nwtn.org.uk/event/working-lunch-drop-in-9/
CATEGORIES:Networking,Social,Working Lunch
ATTACH;FMTTYPE=image/png:https://nwtn.org.uk/wp-content/uploads/2024/04/Autumnal-working-lunch-2.png
END:VEVENT
BEGIN:VEVENT
DTSTART;TZID=Europe/London:20240522T093000
DTEND;TZID=Europe/London:20240522T163000
DTSTAMP:20260423T230051
CREATED:20240423T162540Z
LAST-MODIFIED:20240424T144221Z
UID:7509-1716370200-1716395400@nwtn.org.uk
SUMMARY:Coworking in Liverpool
DESCRIPTION:This content is available only to Members of NWTN. To join please click here or login here
URL:https://nwtn.org.uk/event/coworking-in-liverpool-3/
LOCATION:ARRIVE Liverpool\, No. 10 Princes Dock Princes Parade\, Liverpool Waters\, Liverpool\, L3 1DG\, United Kingdom
CATEGORIES:Coworking,Networking
ATTACH;FMTTYPE=image/png:https://nwtn.org.uk/wp-content/uploads/2024/04/Coworking-in-Liverpool.png
END:VEVENT
BEGIN:VEVENT
DTSTART;TZID=Europe/London:20240514T190000
DTEND;TZID=Europe/London:20240514T210000
DTSTAMP:20260423T230051
CREATED:20240410T113401Z
LAST-MODIFIED:20240410T114205Z
UID:7487-1715713200-1715720400@nwtn.org.uk
SUMMARY:BOOKCHAT chapter 13
DESCRIPTION:This content is available only to Members of NWTN. To join please click here or login here
URL:https://nwtn.org.uk/event/bookchat-chapter-13/
CATEGORIES:Book Chat,Social
ATTACH;FMTTYPE=image/png:https://nwtn.org.uk/wp-content/uploads/2024/04/1-1.png
END:VEVENT
BEGIN:VEVENT
DTSTART;TZID=Europe/London:20240509T090000
DTEND;TZID=Europe/London:20240509T170000
DTSTAMP:20260423T230051
CREATED:20240408T091023Z
LAST-MODIFIED:20240423T154633Z
UID:7474-1715245200-1715274000@nwtn.org.uk
SUMMARY:Coworking in Manchester
DESCRIPTION:This content is available only to Members of NWTN. To join please click here or login here
URL:https://nwtn.org.uk/event/coworking-in-manchester-5/
CATEGORIES:Coworking,Networking
ATTACH;FMTTYPE=image/png:https://nwtn.org.uk/wp-content/uploads/2024/04/POSTPONED-DUE-TO-RAIL-STRIKE.png
END:VEVENT
BEGIN:VEVENT
DTSTART;TZID=Europe/London:20240424T130000
DTEND;TZID=Europe/London:20240424T140000
DTSTAMP:20260423T230051
CREATED:20240408T100502Z
LAST-MODIFIED:20240408T100507Z
UID:7477-1713963600-1713967200@nwtn.org.uk
SUMMARY:Working Lunch: Drop-In
DESCRIPTION:This content is available only to Members of NWTN. To join please click here or login here
URL:https://nwtn.org.uk/event/working-lunch-drop-in-8/
CATEGORIES:Networking,Social,Working Lunch
ATTACH;FMTTYPE=image/png:https://nwtn.org.uk/wp-content/uploads/2024/04/April-WL.png
END:VEVENT
BEGIN:VEVENT
DTSTART;TZID=Europe/London:20240423T090000
DTEND;TZID=Europe/London:20240423T173000
DTSTAMP:20260423T230051
CREATED:20240408T083202Z
LAST-MODIFIED:20240408T085242Z
UID:7470-1713862800-1713893400@nwtn.org.uk
SUMMARY:Coworking in Warrington
DESCRIPTION:This content is available only to Members of NWTN. To join please click here or login here
URL:https://nwtn.org.uk/event/coworking-in-warrington-8/
CATEGORIES:Coworking,Networking
ATTACH;FMTTYPE=image/png:https://nwtn.org.uk/wp-content/uploads/2023/11/Coworking-in-Warrington-1.png
END:VEVENT
BEGIN:VEVENT
DTSTART;TZID=Europe/London:20240420T113000
DTEND;TZID=Europe/London:20240420T170000
DTSTAMP:20260423T230052
CREATED:20240129T165200Z
LAST-MODIFIED:20240311T135533Z
UID:7289-1713612600-1713632400@nwtn.org.uk
SUMMARY:Spring Walk - a Joint NWTN/YTI Adventure
DESCRIPTION:This content is available only to Members of NWTN. To join please click here or login here
URL:https://nwtn.org.uk/event/spring-walk-a-joint-nwtn-yti-adventure-2/
LOCATION:Grindleford railway station\, Hope Valley\, S32 2JA\, United Kingdom
CATEGORIES:Networking,Social,Walk
ATTACH;FMTTYPE=image/png:https://nwtn.org.uk/wp-content/uploads/2024/01/Spring-Walk-2024-1.png
ORGANIZER;CN="Mike Hanson":MAILTO:mike@nwtn.org.uk
END:VEVENT
BEGIN:VEVENT
DTSTART;TZID=Europe/London:20240405T190000
DTEND;TZID=Europe/London:20240405T210000
DTSTAMP:20260423T230052
CREATED:20240208T163046Z
LAST-MODIFIED:20240319T100756Z
UID:7307-1712343600-1712350800@nwtn.org.uk
SUMMARY:NWTN Annual Dinner 2024
DESCRIPTION:This content is available only to Members of NWTN. To join please click here or login here
URL:https://nwtn.org.uk/event/nwtn-annual-dinner-2024/
LOCATION:Browns Manchester\, 1 York Street\, Manchester\, M2 2AW
CATEGORIES:Networking,Social
ATTACH;FMTTYPE=image/png:https://nwtn.org.uk/wp-content/uploads/2024/02/Annual-Dinner-24_square-date_rev.png
END:VEVENT
BEGIN:VEVENT
DTSTART;TZID=Europe/London:20240327T130000
DTEND;TZID=Europe/London:20240327T140000
DTSTAMP:20260423T230052
CREATED:20240325T120438Z
LAST-MODIFIED:20240325T120445Z
UID:7434-1711544400-1711548000@nwtn.org.uk
SUMMARY:Working Lunch: Drop-In
DESCRIPTION:This content is available only to Members of NWTN. To join please click here or login here
URL:https://nwtn.org.uk/event/working-lunch-drop-in-7/
CATEGORIES:Social,Working Lunch
ATTACH;FMTTYPE=image/png:https://nwtn.org.uk/wp-content/uploads/2024/03/spring-working-lunch.png
END:VEVENT
BEGIN:VEVENT
DTSTART;TZID=Europe/London:20240309T130000
DTEND;TZID=Europe/London:20240309T160000
DTSTAMP:20260423T230052
CREATED:20240129T151445Z
LAST-MODIFIED:20240306T162409Z
UID:7280-1709989200-1710000000@nwtn.org.uk
SUMMARY:Generative AI Social Saturday
DESCRIPTION:This content is available only to Members of NWTN. To join please click here or login here
URL:https://nwtn.org.uk/event/generative-ai-social-saturday/
LOCATION:House of Books and Friends\, 81 King Street\, Manchester\, M2 4AH\, United Kingdom
CATEGORIES:CPD,Networking,Social
ATTACH;FMTTYPE=image/png:https://nwtn.org.uk/wp-content/uploads/2024/02/Generative-AI-Social-Sat-Square-.png
ORGANIZER;CN="Kate Lo%2C NWTN Events Team Lead":MAILTO:events@nwtn.org.uk
END:VEVENT
BEGIN:VEVENT
DTSTART;TZID=Europe/London:20240307T090000
DTEND;TZID=Europe/London:20240307T180000
DTSTAMP:20260423T230052
CREATED:20240126T130410Z
LAST-MODIFIED:20240126T130414Z
UID:7273-1709802000-1709834400@nwtn.org.uk
SUMMARY:Coworking at MediaCity
DESCRIPTION:This content is available only to Members of NWTN. To join please click here or login here
URL:https://nwtn.org.uk/event/coworking-at-mediacity-4/
LOCATION:ARRIVE at Media City\, Media City UK\, Salford\, M50 2NT\, United Kingdom
CATEGORIES:Coworking,Networking
ATTACH;FMTTYPE=image/png:https://nwtn.org.uk/wp-content/uploads/2023/09/Coworking-at-Media-City.png
END:VEVENT
BEGIN:VEVENT
DTSTART;TZID=Europe/London:20240228T130000
DTEND;TZID=Europe/London:20240228T140000
DTSTAMP:20260423T230052
CREATED:20240129T171754Z
LAST-MODIFIED:20240129T171757Z
UID:7291-1709125200-1709128800@nwtn.org.uk
SUMMARY:Working Lunch: Drop-In
DESCRIPTION:This content is available only to Members of NWTN. To join please click here or login here
URL:https://nwtn.org.uk/event/working-lunch-drop-in-6/
CATEGORIES:CPD,Networking,Working Lunch
ATTACH;FMTTYPE=image/png:https://nwtn.org.uk/wp-content/uploads/2024/01/Feb-working-lunch.png
END:VEVENT
BEGIN:VEVENT
DTSTART;TZID=Europe/London:20240208T090000
DTEND;TZID=Europe/London:20240208T173000
DTSTAMP:20260423T230052
CREATED:20231207T150048Z
LAST-MODIFIED:20240130T145355Z
UID:7188-1707382800-1707413400@nwtn.org.uk
SUMMARY:Coworking at MediaCity
DESCRIPTION:This content is available only to Members of NWTN. To join please click here or login here
URL:https://nwtn.org.uk/event/coworking-at-mediacity-3/
LOCATION:ARRIVE at Media City\, Media City UK\, Salford\, M50 2NT\, United Kingdom
CATEGORIES:Coworking,Networking
ATTACH;FMTTYPE=image/png:https://nwtn.org.uk/wp-content/uploads/2023/09/Coworking-at-Media-City.png
END:VEVENT
BEGIN:VEVENT
DTSTART;TZID=Europe/London:20240124T130000
DTEND;TZID=Europe/London:20240124T140000
DTSTAMP:20260423T230052
CREATED:20231211T183420Z
LAST-MODIFIED:20231211T183805Z
UID:7197-1706101200-1706104800@nwtn.org.uk
SUMMARY:Working Lunch: Drop-In
DESCRIPTION:This content is available only to Members of NWTN. To join please click here or login here
URL:https://nwtn.org.uk/event/working-lunch-drop-in-5/
CATEGORIES:Networking,Working Lunch
ATTACH;FMTTYPE=image/png:https://nwtn.org.uk/wp-content/uploads/2023/12/January-working-lunch.png
END:VEVENT
END:VCALENDAR